BEGIN:VCALENDAR
VERSION:2.0
PRODID:-//Ολύμπια - ECPv6.15.16.1//NONSGML v1.0//EN
CALSCALE:GREGORIAN
METHOD:PUBLISH
X-WR-CALNAME:Ολύμπια
X-ORIGINAL-URL:https://www.oly.gr
X-WR-CALDESC:Events for Ολύμπια
REFRESH-INTERVAL;VALUE=DURATION:PT1H
X-Robots-Tag:noindex
X-PUBLISHED-TTL:PT1H
BEGIN:VTIMEZONE
TZID:Europe/Athens
BEGIN:DAYLIGHT
TZOFFSETFROM:+0200
TZOFFSETTO:+0300
TZNAME:EEST
DTSTART:20250330T010000
END:DAYLIGHT
BEGIN:STANDARD
TZOFFSETFROM:+0300
TZOFFSETTO:+0200
TZNAME:EET
DTSTART:20251026T010000
END:STANDARD
BEGIN:DAYLIGHT
TZOFFSETFROM:+0200
TZOFFSETTO:+0300
TZNAME:EEST
DTSTART:20260329T010000
END:DAYLIGHT
BEGIN:STANDARD
TZOFFSETFROM:+0300
TZOFFSETTO:+0200
TZNAME:EET
DTSTART:20261025T010000
END:STANDARD
BEGIN:DAYLIGHT
TZOFFSETFROM:+0200
TZOFFSETTO:+0300
TZNAME:EEST
DTSTART:20270328T010000
END:DAYLIGHT
BEGIN:STANDARD
TZOFFSETFROM:+0300
TZOFFSETTO:+0200
TZNAME:EET
DTSTART:20271031T010000
END:STANDARD
END:VTIMEZONE
BEGIN:VEVENT
DTSTART;TZID=Europe/Athens:20260427T193000
DTEND;TZID=Europe/Athens:20260427T210000
DTSTAMP:20260424T121344
CREATED:20260126T160301Z
LAST-MODIFIED:20260407T102953Z
UID:107540-1777318200-1777323600@www.oly.gr
SUMMARY:ΑΦΙΕΡΩΜΑ ΣΤΟΝ DANIEL LOMMEL
DESCRIPTION:Το ΧΟΡΟLOGIE – Κέντρο Χορού με τη στήριξη του ΟΠΑΝΔΑ προσκαλούν το κοινό σε μια ξεχωριστή βραδιά αφιερωμένη στον Daniel Lommel\, τιμώντας τη σπουδαία και πολυσχιδή προσφορά του στην τέχνη του χορού. Το αφιέρωμα αναδεικνύει τη καλλιτεχνική του διαδρομή\, τη χορογραφική του γραφή και την εκπαιδευτική του κληρονομιά\, μέσα από παρουσίαση επιλεγμένων έργων\, αρχειακού υλικού και μαρτυριών συνεργατών και μαθητών του. Η εκδήλωση αποτελεί φόρο τιμής σε έναν δημιουργό που συνέβαλε καθοριστικά στην ανάπτυξη και εξέλιξη της τέχνης του χορού στην Ελλάδα φιλοδοξώντας να αποτελέσει μια βραδιά μνήμης και καλλιτεχνικής αναγνώρισης\, ανοιχτή στο κοινό. \nΟ Daniel Lommel υπήρξε χορευτής διεθνούς ακτινοβολίας\, με ισχυρή παρουσία στη διεθνή σκηνή και σκηνική ταυτότητα που άφησε μοναδικό ερμηνευτικό αποτύπωμα. Η καλλιτεχνική του πορεία συνδέθηκε στενά με την Ελλάδα\, όπου ανέπτυξε πλούσια χορογραφική δράση και συνέβαλε καθοριστικά στη διαμόρφωση της σύγχρονης εγχώριας χορευτικής δημιουργίας. Σημαντική υπήρξε και η συμβολή του στη θεσμική ανάπτυξη του χορού στη χώρα\, καθώς υπήρξε ιδρυτής της πρώτης ομάδας χορού «AENAON Χοροθέατρο» στο Κρατικό Θέατρο Βορείου Ελλάδος. \nΩς δάσκαλος χορού επηρέασε γενιές χορευτών. Μέσα από τη διδασκαλία του μετέδωσε τεχνική ακρίβεια\, καλλιτεχνική πειθαρχία και δημιουργική ελευθερία\, αξίες που συνεχίζουν να εμπνέουν έως σήμερα. \nΙδέα / σύλληψη: Εύα Παγουλάτου\, Ζέφη Μπαρτζώκα \nΔωρεάν είσοδος με δελτία εισόδου.\nΟι ενδιαφερόμενοι θα μπορούν να κλείσουν μέχρι δύο δελτία εισόδου κατ’ άτομο.
URL:https://www.oly.gr/parastasi/afieroma-ston-daniel-lommel/
ATTACH;FMTTYPE=image/jpeg:https://www.oly.gr/wp-content/uploads/2026/01/Lommel1170-copy.jpg
END:VEVENT
BEGIN:VEVENT
DTSTART;TZID=Europe/Athens:20260429T203000
DTEND;TZID=Europe/Athens:20260429T223000
DTSTAMP:20260424T121344
CREATED:20260126T160647Z
LAST-MODIFIED:20260422T081411Z
UID:107542-1777494600-1777501800@www.oly.gr
SUMMARY:ΟΙ ΕΛΕΥΘΕΡΟΙ ΠΟΛΙΟΡΚΗΜΕΝΟΙ - ΓΙΑΝΝΗΣ ΜΑΡΚΟΠΟΥΛΟΣ - Συμφωνική Ορχήστρα & Χορωδία Δήμου Αθηναίων
DESCRIPTION:Οι Ελεύθεροι Πολιορκημένοι – Γιάννης Μαρκόπουλος \nΚοσμική Λειτουργία \nΠοίηση Διονυσίου Σολωμού \nΤο εμβληματικό έργο του Γιάννη Μαρκόπουλου «Οι Ελεύθεροι Πολιορκημένοι»\, σε ποίηση Διονυσίου Σολωμού\, παρουσιάζεται την Τετάρτη 29 Απριλίου 2026\, στις 20:30\, στο Ολύμπια Δημοτικό Μουσικό Θέατρο «Μαρία Κάλλας»\, στο πλαίσιο του αφιερώματος για τη συμπλήρωση 200 χρόνων από την Έξοδο του Μεσολογγίου. Η παράσταση αποτελεί συμπαραγωγή του Οργανισμού Πολιτισμού\, Αθλητισμού και Νεολαίας Δήμου Αθηναίων (Ο.Π.Α.Ν.Δ.Α.)\, της Ένωσης Επτανησίων Ελλάδας και του Δημοτικού Περιφερειακού Θεάτρου Κέρκυρας (ΔΗ.ΠΕ.ΘΕ. Κέρκυρας)\, με τη συμμετοχή της Συμφωνικής Ορχήστρας Δήμου Αθηναίων και της Χορωδίας Δήμου Αθηναίων.  \nΈργο με ξεχωριστή θέση στην ελληνική μουσική δημιουργία\, οι «Ελεύθεροι Πολιορκημένοι» συνομιλούν ευθέως με ένα από τα κορυφαία γεγονότα της νεότερης ελληνικής ιστορίας. Η μουσική του Μαρκόπουλου και ο σολωμικός λόγος συναντώνται σε μια παράσταση με έντονο ιστορικό και συγκινησιακό φορτίο\, που φωτίζει τη μνήμη της Εξόδου όχι ως τυπική επέτειο\, αλλά ως ζωντανό σημείο αναφοράς της συλλογικής μας συνείδησης. \nΤη μουσική διεύθυνση υπογράφει ο Μύρων Μιχαηλίδης και τη σκηνοθεσία ο Πέτρος Γάλλιας. Τη διεύθυνση χορωδίας έχει ο Σταύρος Μπερής και την προετοιμασία των τραγουδιστών ο Δημήτρης Βεζύρογλου. Ερμηνεύουν οι Γιάννης Χριστόπουλος\, Θοδωρής Νικολάου και Παντελής Κοντός. Αφηγήτρια η Στέλλα Παπαδημητρίου.  \nΜε αφορμή τα 200 χρόνια από την Έξοδο του Μεσολογγίου\, η παράσταση αποτίει φόρο τιμής σε μία από τις πιο δραματικές και καθοριστικές στιγμές της νεότερης ελληνικής ιστορίας\, αναδεικνύοντας τη δύναμη ενός έργου που εξακολουθεί να συγκινεί\, να εμπνέει και να διατηρεί ακέραιο το καλλιτεχνικό και ιστορικό του βάρος. \n 
URL:https://www.oly.gr/parastasi/eleftheroi-poliorkimenoi-giannis-markopoulos/
ATTACH;FMTTYPE=image/jpeg:https://www.oly.gr/wp-content/uploads/2026/01/1170χ560.jpg
END:VEVENT
BEGIN:VEVENT
DTSTART;TZID=Europe/Athens:20260430T210000
DTEND;TZID=Europe/Athens:20260430T223000
DTSTAMP:20260424T121344
CREATED:20260309T123056Z
LAST-MODIFIED:20260318T135917Z
UID:107812-1777582800-1777588200@www.oly.gr
SUMMARY:Η ΧΡΟΝΙΑ ΧΩΡΙΣ ΚΑΛΟΚΑΙΡΙ - ΦΟΥΑΓΙΕ
DESCRIPTION:Η Χρονιά Χωρίς Καλοκαίρι\, το νέο έργο του Γιάννη Καλαβριανού\, μας μεταφέρει με μοναδικό τρόπο 210 χρόνια πριν\, σε ένα πολύ ιδιαίτερο καλοκαίρι. Με έμπνευση από πραγματικά γεγονότα και ιστορικά πρόσωπα\, ο Καλαβριανός σκηνοθετεί μία ομάδα νέων ηθοποιών και μεταμορφώνει τον χώρο του Φουαγιέ στο θέατρο Ολύμπια\, σε αστικό σαλόνι στη λίμνη της Γενεύης\, όπου μέσα από το σκοτάδι γεννιούνται οι πιο τρομακτικές ιστορίες που στιγμάτισαν την ανθρώπινη διανόηση.  \nΒρισκόμαστε στο 1815. Το ηφαίστειο Ταμπόρα\, στην Ινδονησία\, εκρήγνυται προκαλώντας τεράστια οικολογική και κλιματική κρίση. Ήταν η ισχυρότερη ηφαιστειακή έκρηξη που έχει ποτέ καταγραφεί. Χιλιάδες άνθρωποι χάνουν τη ζωή τους\, πόλεις καταστρέφονται και ο κύκλος των εποχών διαταράσσεται. Ο ουρανός παραμένει σκοτεινός\, από την τέφρα που εκτοξεύτηκε\, για σχεδόν τρία χρόνια\, οι θύελλες και οι χιονοπτώσεις κυριαρχούν και η θερμοκρασία πέφτει προκαλώντας καταστροφές σε καλλιέργειες και τεράστια επισιτιστική κρίση. Το 1816 ήταν το πιο κρύο έτος των τελευταίων 250 ετών και έμεινε στην ιστορία ως «Η Χρονιά Χωρίς Καλοκαίρι»\, με την βροχή να πέφτει καταρρακτωδώς και να χιονίζει τον Ιούνιο στη Νέα Υόρκη. \nΑυτό το αλλόκοτο καλοκαίρι μία παρέα νεαρών Άγγλων αριστοκρατών αποφασίζουν να περάσουν τις διακοπές τους στη λίμνη της Γενεύης. Σύντομα καταλαβαίνουν πως τα σχέδιά τους για καλοκαιρινές βαρκάδες δεν μπορούν να πραγματοποιηθούν και περνούν τα κρύα βράδια τους κλεισμένοι στη Βίλα Ντιοντάτι\, με αφηγήσεις και αναγνώσεις ιστοριών τρόμου. Ήταν ο Λόρδος Μπάιρον\, ο γιατρός του\, Τζον Πολιντόρι\, ο Πέρσι Σέλλεϋ\, η μελλοντική γυναίκα του Μαίρη και η αδερφή της Κλαιρ\, όλοι έντονες προσωπικότητες και εκτός των κοινωνικών κανόνων και επιταγών της εποχής. Σύντομα\, ο Μπάιρον προτείνει να γράψουν τις δικές τους τρομακτικές ιστορίες. Η Μαίρη Σέλλεϋ γράφει τον Φρανκενστάιν και ο Πολιντόρι τον Βρικόλακα\, τον πρόγονο του Δράκουλα και της ρομαντικής λογοτεχνίας τρόμου. Σιγά σιγά και ενώ αρχίζουν να γεννιούνται παιχνίδια σχέσεων\, εξουσίας και επικίνδυνα ερωτικά δίπολα\, τα όσα τρομακτικά γράφουν γίνονται μέρος της καθημερινότητας τους. \nΟ Γιάννης Καλαβριανός περιγράφει τις ταραγμένες ημέρες της ζωής των πέντε ηρώων\, που θα άλλαζαν μια για πάντα την ιστορία της παγκόσμιας λογοτεχνίας τρόμου. \nΤο Φουαγιέ του Θεάτρου Ολύμπια\, ολοσκότεινο\, γίνεται το σαλόνι της Βίλας Ντιοντάτι\, όπου όλα μοιάζουν σαν να έμειναν ανέγγιχτα εδώ και δύο αιώνες\, σε μία παράσταση όπου τα όρια ζωής και σκηνής καταλύονται\, με τις ιστορίες τρόμου να κυριαρχούν.  \nΟι θεατές βρίσκονται ανάμεσα στους ηθοποιούς\, έναν αόρατο αφηγητή\, έναν μυστηριώδη πιανίστα και μία εικαστική εγκατάσταση από πίνακες και γλυπτά που φτιάχτηκαν με αφορμή την ιστορία των ηρώων. \nΕπιμέλεια εγκατάστασης: Ίρις Κρητικού \nΜε ζωγραφικά και γλυπτά έργα τους συμμετέχουν οι εικαστικοί: Μάριος Βουτσινάς\, Λυδία Μαργαρώνη\, Μηνάς Μαυρικάκης\, Μάνος Μπατζόλης\, Χρίστος Παπαδάκης και Μαριέττα Παπαχειμώνα. \n* Η παράσταση επιχορηγήθηκε από το Υπουργείο Πολιτισμού
URL:https://www.oly.gr/parastasi/i-chronia-choris-kalokairi-fouagie-6/
ATTACH;FMTTYPE=image/jpeg:https://www.oly.gr/wp-content/uploads/2026/01/ΧΩΡΙΣ-ΚΑΛΟΚΑΙΡΙ_1170.jpg
END:VEVENT
END:VCALENDAR